BEGIN:VCALENDAR
VERSION:2.0
PRODID:-//School of Education - ECPv6.15.17.1//NONSGML v1.0//EN
CALSCALE:GREGORIAN
METHOD:PUBLISH
X-WR-CALNAME:School of Education
X-ORIGINAL-URL:https://soe.uncg.edu
X-WR-CALDESC:Events for School of Education
REFRESH-INTERVAL;VALUE=DURATION:PT1H
X-Robots-Tag:noindex
X-PUBLISHED-TTL:PT1H
BEGIN:VTIMEZONE
TZID:America/New_York
BEGIN:DAYLIGHT
TZOFFSETFROM:-0500
TZOFFSETTO:-0400
TZNAME:EDT
DTSTART:20230312T070000
END:DAYLIGHT
BEGIN:STANDARD
TZOFFSETFROM:-0400
TZOFFSETTO:-0500
TZNAME:EST
DTSTART:20231105T060000
END:STANDARD
BEGIN:DAYLIGHT
TZOFFSETFROM:-0500
TZOFFSETTO:-0400
TZNAME:EDT
DTSTART:20240310T070000
END:DAYLIGHT
BEGIN:STANDARD
TZOFFSETFROM:-0400
TZOFFSETTO:-0500
TZNAME:EST
DTSTART:20241103T060000
END:STANDARD
BEGIN:DAYLIGHT
TZOFFSETFROM:-0500
TZOFFSETTO:-0400
TZNAME:EDT
DTSTART:20250309T070000
END:DAYLIGHT
BEGIN:STANDARD
TZOFFSETFROM:-0400
TZOFFSETTO:-0500
TZNAME:EST
DTSTART:20251102T060000
END:STANDARD
BEGIN:DAYLIGHT
TZOFFSETFROM:-0500
TZOFFSETTO:-0400
TZNAME:EDT
DTSTART:20260308T070000
END:DAYLIGHT
BEGIN:STANDARD
TZOFFSETFROM:-0400
TZOFFSETTO:-0500
TZNAME:EST
DTSTART:20261101T060000
END:STANDARD
END:VTIMEZONE
BEGIN:VEVENT
DTSTART;TZID=America/New_York:20250317T120000
DTEND;TZID=America/New_York:20250317T140000
DTSTAMP:20260424T045309
CREATED:20250310T150948Z
LAST-MODIFIED:20250310T150951Z
UID:10000170-1742212800-1742220000@soe.uncg.edu
SUMMARY:Scavenger Hunt and Finance Q&A Pop Up Event
DESCRIPTION:Join the Teaching Resources Center and Allegacy Federal Credit Union for a Scavenger Hunt and Financial Q&A celebrating St. Patrick’s Day on March 17 from 12 pm to 2 pm in the Teaching Resources Center SOEB Room 310. Try your hand at an Scavenger Hunt to find a “pot of gold” while Allegacy Federal Credit Union reps will be available to answer questions about how to balance a budget and other money topics. So drop by and see if you can find the treasure hidden in the TRC!
URL:https://soe.uncg.edu/event/scavenger-hunt-and-finance-qa-pop-up-event/
LOCATION:Michel Family Teaching Resources Center\, 1300 Spring Garden Street\, Greensboro\, NC\, 27412\, United States
CATEGORIES:SOE
ATTACH;FMTTYPE=image/png:https://soe.uncg.edu/wp-content/uploads/2025/03/Scavenger-Hunt-and-Financial-Advice-Event-19_Barbara-Halbert.png
END:VEVENT
BEGIN:VEVENT
DTSTART;TZID=America/New_York:20250305T160000
DTEND;TZID=America/New_York:20250305T170000
DTSTAMP:20260424T045309
CREATED:20241209T142114Z
LAST-MODIFIED:20241209T144235Z
UID:10000150-1741190400-1741194000@soe.uncg.edu
SUMMARY:UNCG TESOL/Project Ignite Information Session
DESCRIPTION:Project Ignite (Innovation to Grow\, Nurture\, and Inspire Teachers of English-learners) provides tuition support and professional learning opportunities for in-service and preservice teachers teaching in North Carolina or seeking NC teaching licensure to support equitable instruction for English learners and their families. \n\n\n\nJoin us for an upcoming session to learn more about Ignite and UNCG TESOL Programs.
URL:https://soe.uncg.edu/event/uncg-tesol-project-ignite-information-session-13/
CATEGORIES:Project Ignite,SOE
ATTACH;FMTTYPE=image/png:https://soe.uncg.edu/wp-content/uploads/2021/11/ignite-uncg1transparent-1-1-Melody-Patterson-Zoch-e1635879883424.png
ORGANIZER;CN="Project Ignite":MAILTO:ignite@uncg.edu
END:VEVENT
BEGIN:VEVENT
DTSTART;TZID=America/New_York:20250301T083000
DTEND;TZID=America/New_York:20250301T163000
DTSTAMP:20260424T045309
CREATED:20240926T153532Z
LAST-MODIFIED:20250210T173720Z
UID:10000123-1740817800-1740846600@soe.uncg.edu
SUMMARY:ELC Critical Conversations Conference (ELCCCC)
DESCRIPTION:ELC Critical Conversations Annual Conference \n\n\n\nTheme: “Grounded and Growing: Collective Work to Strengthen Education and Communities” \n\n\n\nRegistration is required.  \n\n\n\nDeadline to register: Friday\, February 21\, 2025
URL:https://soe.uncg.edu/event/elc-critical-conversations-conference-elcccc/
CATEGORIES:Conferences and Speaker Series,Educational Leadership and Cultural Foundations,SOE,SOE Faculty and Staff
ATTACH;FMTTYPE=image/png:https://soe.uncg.edu/wp-content/uploads/2021/09/ELCCC-square-logo-e1630511598958.png
ORGANIZER;CN="Department of Educational Leadership and Cultural Foundations":MAILTO:elc@uncg.edu
END:VEVENT
BEGIN:VEVENT
DTSTART;TZID=America/New_York:20250225T113000
DTEND;TZID=America/New_York:20250225T133000
DTSTAMP:20260424T045309
CREATED:20250114T200530Z
LAST-MODIFIED:20250128T160728Z
UID:10000157-1740483000-1740490200@soe.uncg.edu
SUMMARY:IPiE Brown Bag Series: Collaborative Research with Local School Districts
DESCRIPTION:Location: School of Education Building\, room 120 \n\n\n\nThe panel discussion will bring together research leaders in local school districts and SOE faculty and staff to discuss applying to do research in K-12 schools. \n\n\n\nPlease RSVP no later than Thursday\, February 19. Attendees can submit questions they would like to hear discussed by the panel on RSVP form.Attendees are encouraged to bring their lunch. Cookies and coffee will be provided.
URL:https://soe.uncg.edu/event/ipie-brown-bag-series-collaborative-research-with-local-school-districts/
CATEGORIES:SOE,SOE Faculty and Staff
ATTACH;FMTTYPE=image/jpeg:https://soe.uncg.edu/wp-content/uploads/2022/02/IPIE-logo_vertical.jpg
END:VEVENT
BEGIN:VEVENT
DTSTART;TZID=America/New_York:20250219T160000
DTEND;TZID=America/New_York:20250219T170000
DTSTAMP:20260424T045309
CREATED:20241209T142059Z
LAST-MODIFIED:20241209T144235Z
UID:10000149-1739980800-1739984400@soe.uncg.edu
SUMMARY:UNCG TESOL/Project Ignite Information Session
DESCRIPTION:Project Ignite (Innovation to Grow\, Nurture\, and Inspire Teachers of English-learners) provides tuition support and professional learning opportunities for in-service and preservice teachers teaching in North Carolina or seeking NC teaching licensure to support equitable instruction for English learners and their families. \n\n\n\nJoin us for an upcoming session to learn more about Ignite and UNCG TESOL Programs.
URL:https://soe.uncg.edu/event/uncg-tesol-project-ignite-information-session-12/
CATEGORIES:Project Ignite,SOE
ATTACH;FMTTYPE=image/png:https://soe.uncg.edu/wp-content/uploads/2021/11/ignite-uncg1transparent-1-1-Melody-Patterson-Zoch-e1635879883424.png
ORGANIZER;CN="Project Ignite":MAILTO:ignite@uncg.edu
END:VEVENT
BEGIN:VEVENT
DTSTART;TZID=America/New_York:20250219T120000
DTEND;TZID=America/New_York:20250219T140000
DTSTAMP:20260424T045309
CREATED:20250210T171925Z
LAST-MODIFIED:20250210T171951Z
UID:10000162-1739966400-1739973600@soe.uncg.edu
SUMMARY:Therapy Dogs
DESCRIPTION:Therapy dogs visit the Teaching Resources Center for the UNCG community to spend time with trained dogs for time to destress and chill. Drop in and pet a dog! \n\n\n\nLocation: SOEB 310
URL:https://soe.uncg.edu/event/therapy-dogs-2/
CATEGORIES:SOE
ATTACH;FMTTYPE=image/jpeg:https://soe.uncg.edu/wp-content/uploads/2024/03/PIC40533-SOE_Therapy_Dogs_In_TRC_0047.jpg
END:VEVENT
BEGIN:VEVENT
DTSTART;TZID=America/New_York:20250214T090000
DTEND;TZID=America/New_York:20250214T170000
DTSTAMP:20260424T045309
CREATED:20250210T171041Z
LAST-MODIFIED:20250210T171944Z
UID:10000161-1739523600-1739552400@soe.uncg.edu
SUMMARY:Valentine's Day Light Up Cards Workshop
DESCRIPTION:Create a unique Valentine’s Card with a light up feature. Drop in between 9 am to 5 pm to make a free card and take it with you. \n\n\n\nLOCATION: SOEB Room 310
URL:https://soe.uncg.edu/event/valentines-day-light-up-cards-workshop/
CATEGORIES:SOE
ATTACH;FMTTYPE=image/png:https://soe.uncg.edu/wp-content/uploads/2016/02/TRC-logo.png
END:VEVENT
BEGIN:VEVENT
DTSTART;TZID=America/New_York:20250212T113000
DTEND;TZID=America/New_York:20250212T130000
DTSTAMP:20260424T045309
CREATED:20250206T143139Z
LAST-MODIFIED:20250206T145950Z
UID:10000160-1739359800-1739365200@soe.uncg.edu
SUMMARY:SOE Staff Lunch & Learn: Becoming Digitally Organized
DESCRIPTION:On behalf of The SOE Business Office\, we are excited to announce our 2nd Lunch and Learn Series for SOE Staff! \n\n\n\nOur 2nd Lunch & Learn Session: Becoming Digitally Organized will be held on Wednesday\, February 12th\, 2025 on Teams from 11:30 AM – 1:00 PM. During this session our presenter\, Carla Wilson\, will provide helpful digital organizational tips! Please take a moment to complete the Digital Organization Interest Survey so our presenter can best address your interests and/or questions.  \n\n\n\nBe sure to mark your calendars\, grab a lunch\, and join us virtually on February 12th for a GREAT Lunch & Learn Session!
URL:https://soe.uncg.edu/event/soe-staff-lunch-learn-becoming-digitally-organized/
CATEGORIES:Academic Technology Specialist,SOE,SOE Faculty and Staff
ATTACH;FMTTYPE=image/png:https://soe.uncg.edu/wp-content/uploads/2025/02/SOEStaff-FeaturedImage.png
END:VEVENT
BEGIN:VEVENT
DTSTART;TZID=America/New_York:20250210T130000
DTEND;TZID=America/New_York:20250210T140000
DTSTAMP:20260424T045309
CREATED:20250115T164843Z
LAST-MODIFIED:20250115T164928Z
UID:10000158-1739192400-1739196000@soe.uncg.edu
SUMMARY:Financial WellBeing Workshop | Hosted by the TRC
DESCRIPTION:Location: School of Education Building\, Room 302 \n\n\n\nUNCG students are invited to attend this FREE Financial Wellbeing Workshop\, presented by Allegacy Credit Union.  \n\n\n\nAbout half of all American households currently live paycheck to paycheck\, making it hard to affordunexpected expenses\, like car repairs or emergency room visits. Much like meal planning often yieldshealthier food choices\, a budget can help you manage your household expenses to not only make endsmeet\, but have some money left over to pay down debt or save. Join us for this interactive session onbudgeting to learn smart strategies for managing your cash flow\, allocating expenses\, and sticking toyour budget. 
URL:https://soe.uncg.edu/event/financial-wellbeing-workshop-hosted-by-the-trc/
CATEGORIES:SOE
ATTACH;FMTTYPE=image/png:https://soe.uncg.edu/wp-content/uploads/2023/06/TRC-logo-1.png
END:VEVENT
BEGIN:VEVENT
DTSTART;TZID=America/New_York:20250205T160000
DTEND;TZID=America/New_York:20250205T170000
DTSTAMP:20260424T045309
CREATED:20241209T142044Z
LAST-MODIFIED:20241209T144236Z
UID:10000148-1738771200-1738774800@soe.uncg.edu
SUMMARY:UNCG TESOL/Project Ignite Information Session
DESCRIPTION:Project Ignite (Innovation to Grow\, Nurture\, and Inspire Teachers of English-learners) provides tuition support and professional learning opportunities for in-service and preservice teachers teaching in North Carolina or seeking NC teaching licensure to support equitable instruction for English learners and their families. \n\n\n\nJoin us for an upcoming session to learn more about Ignite and UNCG TESOL Programs.
URL:https://soe.uncg.edu/event/uncg-tesol-project-ignite-information-session-11/
CATEGORIES:Project Ignite,SOE
ATTACH;FMTTYPE=image/png:https://soe.uncg.edu/wp-content/uploads/2021/11/ignite-uncg1transparent-1-1-Melody-Patterson-Zoch-e1635879883424.png
ORGANIZER;CN="Project Ignite":MAILTO:ignite@uncg.edu
END:VEVENT
BEGIN:VEVENT
DTSTART;TZID=America/New_York:20250129T130000
DTEND;TZID=America/New_York:20250129T140000
DTSTAMP:20260424T045309
CREATED:20250127T181008Z
LAST-MODIFIED:20250127T195310Z
UID:10000159-1738155600-1738159200@soe.uncg.edu
SUMMARY:Healthy Relationships Workshop | Hosted by the TRC
DESCRIPTION:UNCG Students are invited to attend this FREE Workshop in the School of Education Building Room 302.  \n\n\n\nHealthy relationships involve honesty\, trust\, respect and open communication between partners\, and they take effort and compromise from all parties. Learning and understanding how to maintain healthy relationships is important for overall health and well-being. After participating in this workshop\, students will be able to understand:  \n\n\n\n\nThe characteristics of a healthy relationship \n\n\n\nWhat a healthy relationship is. \n\n\n\nWays to exhibit and recognize relational health. \n\n\n\n\n\nRegister to Attend\n\n\n\n\nPresented by Spartan Well-BeingHosted by Teaching Resources Center
URL:https://soe.uncg.edu/event/healthy-relationships-workshop/
CATEGORIES:SOE
ATTACH;FMTTYPE=image/png:https://soe.uncg.edu/wp-content/uploads/2023/06/TRC-logo-1.png
END:VEVENT
BEGIN:VEVENT
DTSTART;TZID=America/New_York:20250123T100000
DTEND;TZID=America/New_York:20250123T110000
DTSTAMP:20260424T045309
CREATED:20250106T193310Z
LAST-MODIFIED:20250106T193313Z
UID:10000156-1737626400-1737630000@soe.uncg.edu
SUMMARY:SOE ATS Drop-in
DESCRIPTION:School of Education instructors (faculty\, lecturers\, adjuncts\, teaching assistants\, etc.) are invited to drop-in and receive the “just in time” assistance needed for their courses. Instructors can receive assistance on such things as instructional design\, course revisions & updates\, as well as receive suggestions and recommendations for selecting and implementing learning tools (Canvas\, SoftChalk\, Teams\, and Microsoft Office 365) in their courses.
URL:https://soe.uncg.edu/event/soe-ats-drop-in-10/
CATEGORIES:Academic Technology Specialist,SOE,SOE Faculty and Staff
ATTACH;FMTTYPE=image/png:https://soe.uncg.edu/wp-content/uploads/2024/02/SOE-ATS-Site-Icon-e1711115048687.png
END:VEVENT
BEGIN:VEVENT
DTSTART;TZID=America/New_York:20250122T160000
DTEND;TZID=America/New_York:20250122T170000
DTSTAMP:20260424T045309
CREATED:20241209T142028Z
LAST-MODIFIED:20241209T144237Z
UID:10000147-1737561600-1737565200@soe.uncg.edu
SUMMARY:UNCG TESOL/Project Ignite Information Session
DESCRIPTION:Project Ignite (Innovation to Grow\, Nurture\, and Inspire Teachers of English-learners) provides tuition support and professional learning opportunities for in-service and preservice teachers teaching in North Carolina or seeking NC teaching licensure to support equitable instruction for English learners and their families. \n\n\n\nJoin us for an upcoming session to learn more about Ignite and UNCG TESOL Programs.
URL:https://soe.uncg.edu/event/uncg-tesol-project-ignite-information-session-10/
CATEGORIES:Project Ignite,SOE
ATTACH;FMTTYPE=image/png:https://soe.uncg.edu/wp-content/uploads/2021/11/ignite-uncg1transparent-1-1-Melody-Patterson-Zoch-e1635879883424.png
ORGANIZER;CN="Project Ignite":MAILTO:ignite@uncg.edu
END:VEVENT
BEGIN:VEVENT
DTSTART;TZID=America/New_York:20250121T100000
DTEND;TZID=America/New_York:20250121T110000
DTSTAMP:20260424T045309
CREATED:20250106T193148Z
LAST-MODIFIED:20250106T193152Z
UID:10000155-1737453600-1737457200@soe.uncg.edu
SUMMARY:SOE ATS Drop-in
DESCRIPTION:School of Education instructors (faculty\, lecturers\, adjuncts\, teaching assistants\, etc.) are invited to drop-in and receive the “just in time” assistance needed for their courses. Instructors can receive assistance on such things as instructional design\, course revisions & updates\, as well as receive suggestions and recommendations for selecting and implementing learning tools (Canvas\, SoftChalk\, Teams\, and Microsoft Office 365) in their courses.
URL:https://soe.uncg.edu/event/soe-ats-drop-in-9/
CATEGORIES:Academic Technology Specialist,SOE,SOE Faculty and Staff
ATTACH;FMTTYPE=image/png:https://soe.uncg.edu/wp-content/uploads/2024/02/SOE-ATS-Site-Icon-e1711115048687.png
END:VEVENT
BEGIN:VEVENT
DTSTART;TZID=America/New_York:20250117T100000
DTEND;TZID=America/New_York:20250117T120000
DTSTAMP:20260424T045309
CREATED:20241202T170325Z
LAST-MODIFIED:20241202T171358Z
UID:10000145-1737108000-1737115200@soe.uncg.edu
SUMMARY:SOE All-School Meeting
DESCRIPTION:The School of Education will be hosting a special spring semester kick-off event filled with food\, fun\, and SOE updates for all SOE faculty and staff.  \n\n\n\nWe look forward to seeing everyone!  \n\n\n\nWhere: School of Education Building\, Room 310
URL:https://soe.uncg.edu/event/soe-all-school-meeting-2/
LOCATION:Michel Family Teaching Resources Center\, 1300 Spring Garden Street\, Greensboro\, NC\, 27412\, United States
CATEGORIES:SOE,SOE Faculty and Staff
ATTACH;FMTTYPE=image/jpeg:https://soe.uncg.edu/wp-content/uploads/2024/07/Welcome-back-spartans-social-media.jpg
END:VEVENT
BEGIN:VEVENT
DTSTART;TZID=America/New_York:20250115T100000
DTEND;TZID=America/New_York:20250115T110000
DTSTAMP:20260424T045309
CREATED:20250106T192833Z
LAST-MODIFIED:20250106T192836Z
UID:10000154-1736935200-1736938800@soe.uncg.edu
SUMMARY:SOE ATS Drop-in
DESCRIPTION:School of Education instructors (faculty\, lecturers\, adjuncts\, teaching assistants\, etc.) are invited to drop-in and receive the “just in time” assistance needed for their courses. Instructors can receive assistance on such things as instructional design\, course revisions & updates\, as well as receive suggestions and recommendations for selecting and implementing learning tools (Canvas\, Teams\, and Microsoft Office 365) in their courses.
URL:https://soe.uncg.edu/event/soe-ats-drop-in-8/
CATEGORIES:Academic Technology Specialist,SOE,SOE Faculty and Staff
ATTACH;FMTTYPE=image/png:https://soe.uncg.edu/wp-content/uploads/2024/02/SOE-ATS-Site-Icon-e1711115048687.png
END:VEVENT
BEGIN:VEVENT
DTSTART;TZID=America/New_York:20250108T160000
DTEND;TZID=America/New_York:20250108T170000
DTSTAMP:20260424T045309
CREATED:20241209T142012Z
LAST-MODIFIED:20241209T144237Z
UID:10000146-1736352000-1736355600@soe.uncg.edu
SUMMARY:UNCG TESOL/Project Ignite Information Session
DESCRIPTION:Project Ignite (Innovation to Grow\, Nurture\, and Inspire Teachers of English-learners) provides tuition support and professional learning opportunities for in-service and preservice teachers teaching in North Carolina or seeking NC teaching licensure to support equitable instruction for English learners and their families. \n\n\n\nJoin us for an upcoming session to learn more about Ignite and UNCG TESOL Programs.
URL:https://soe.uncg.edu/event/uncg-tesol-project-ignite-information-session-9/
CATEGORIES:Project Ignite,SOE
ATTACH;FMTTYPE=image/png:https://soe.uncg.edu/wp-content/uploads/2021/11/ignite-uncg1transparent-1-1-Melody-Patterson-Zoch-e1635879883424.png
ORGANIZER;CN="Project Ignite":MAILTO:ignite@uncg.edu
END:VEVENT
BEGIN:VEVENT
DTSTART;TZID=America/New_York:20241231T000000
DTEND;TZID=America/New_York:20241231T235959
DTSTAMP:20260424T045309
CREATED:20240528T185942Z
LAST-MODIFIED:20240528T190021Z
UID:10000037-1735603200-1735689599@soe.uncg.edu
SUMMARY:University Closed
DESCRIPTION:
URL:https://soe.uncg.edu/event/university-closed/2024-12-31/
CATEGORIES:SOE Faculty and Staff
ATTACH;FMTTYPE=image/png:https://soe.uncg.edu/wp-content/uploads/2024/05/uncgreensboro_v_3-color.png
END:VEVENT
BEGIN:VEVENT
DTSTART;TZID=America/New_York:20241230T000000
DTEND;TZID=America/New_York:20241230T235959
DTSTAMP:20260424T045309
CREATED:20240528T185942Z
LAST-MODIFIED:20240528T190021Z
UID:10000036-1735516800-1735603199@soe.uncg.edu
SUMMARY:University Closed
DESCRIPTION:
URL:https://soe.uncg.edu/event/university-closed/2024-12-30/
CATEGORIES:SOE Faculty and Staff
ATTACH;FMTTYPE=image/png:https://soe.uncg.edu/wp-content/uploads/2024/05/uncgreensboro_v_3-color.png
END:VEVENT
BEGIN:VEVENT
DTSTART;TZID=America/New_York:20241227T000000
DTEND;TZID=America/New_York:20241227T235959
DTSTAMP:20260424T045309
CREATED:20240528T185429Z
LAST-MODIFIED:20240528T185728Z
UID:10000035-1735257600-1735343999@soe.uncg.edu
SUMMARY:Winter Holiday
DESCRIPTION:Offices closed.
URL:https://soe.uncg.edu/event/winter-holiday/2024-12-27/
CATEGORIES:SOE Faculty and Staff
ATTACH;FMTTYPE=image/jpeg:https://soe.uncg.edu/wp-content/uploads/2024/05/banner-angel-tree.jpg
END:VEVENT
BEGIN:VEVENT
DTSTART;TZID=America/New_York:20241226T000000
DTEND;TZID=America/New_York:20241226T235959
DTSTAMP:20260424T045309
CREATED:20240528T185429Z
LAST-MODIFIED:20240528T185728Z
UID:10000034-1735171200-1735257599@soe.uncg.edu
SUMMARY:Winter Holiday
DESCRIPTION:Offices closed.
URL:https://soe.uncg.edu/event/winter-holiday/2024-12-26/
CATEGORIES:SOE Faculty and Staff
ATTACH;FMTTYPE=image/jpeg:https://soe.uncg.edu/wp-content/uploads/2024/05/banner-angel-tree.jpg
END:VEVENT
BEGIN:VEVENT
DTSTART;TZID=America/New_York:20241225T000000
DTEND;TZID=America/New_York:20241225T235959
DTSTAMP:20260424T045309
CREATED:20240528T185429Z
LAST-MODIFIED:20240528T185728Z
UID:10000033-1735084800-1735171199@soe.uncg.edu
SUMMARY:Winter Holiday
DESCRIPTION:Offices closed.
URL:https://soe.uncg.edu/event/winter-holiday/2024-12-25/
CATEGORIES:SOE Faculty and Staff
ATTACH;FMTTYPE=image/jpeg:https://soe.uncg.edu/wp-content/uploads/2024/05/banner-angel-tree.jpg
END:VEVENT
BEGIN:VEVENT
DTSTART;TZID=America/New_York:20241224T000000
DTEND;TZID=America/New_York:20241224T235959
DTSTAMP:20260424T045309
CREATED:20240528T185429Z
LAST-MODIFIED:20240528T185728Z
UID:10000032-1734998400-1735084799@soe.uncg.edu
SUMMARY:Winter Holiday
DESCRIPTION:Offices closed.
URL:https://soe.uncg.edu/event/winter-holiday/2024-12-24/
CATEGORIES:SOE Faculty and Staff
ATTACH;FMTTYPE=image/jpeg:https://soe.uncg.edu/wp-content/uploads/2024/05/banner-angel-tree.jpg
END:VEVENT
BEGIN:VEVENT
DTSTART;TZID=America/New_York:20241213T160000
DTEND;TZID=America/New_York:20241213T180000
DTSTAMP:20260424T045309
CREATED:20241202T164351Z
LAST-MODIFIED:20241202T171426Z
UID:10000144-1734105600-1734112800@soe.uncg.edu
SUMMARY:FAEC School of Education Social
DESCRIPTION:The FAEC will hold its last social event of the fall semester on December 13th at Grapes and Grains Tavern\, 2001 Yanceyville St. in Greensboro. All staff and faculty from the SOE are welcome\, and guests are encouraged. Please come and celebrate the end of the fall semester! \n\n\n\nWhere: Grape and Grains Tavern\, 2001 Yanceyville St. Greensboro NC 27405
URL:https://soe.uncg.edu/event/faec-school-of-education-social/
CATEGORIES:SOE,SOE Faculty and Staff
ATTACH;FMTTYPE=image/png:https://soe.uncg.edu/wp-content/uploads/2023/03/uncgreensboro_EDU_v_3-colors.png
END:VEVENT
BEGIN:VEVENT
DTSTART;TZID=America/New_York:20241204T160000
DTEND;TZID=America/New_York:20241204T170000
DTSTAMP:20260424T045309
CREATED:20241106T211734Z
LAST-MODIFIED:20241106T211735Z
UID:10000140-1733328000-1733331600@soe.uncg.edu
SUMMARY:UNCG TESOL/Project Ignite Information Session
DESCRIPTION:Project Ignite (Innovation to Grow\, Nurture\, and Inspire Teachers of English-learners) provides tuition support and professional learning opportunities for in-service and preservice teachers teaching in North Carolina or seeking NC teaching licensure to support equitable instruction for English learners and their families. \n\n\n\nJoin us for an upcoming session to learn more about Ignite and UNCG TESOL Programs.
URL:https://soe.uncg.edu/event/uncg-tesol-project-ignite-information-session-7/
CATEGORIES:Project Ignite
ATTACH;FMTTYPE=image/png:https://soe.uncg.edu/wp-content/uploads/2021/11/ignite-uncg1transparent-1-1-Melody-Patterson-Zoch-e1635879883424.png
ORGANIZER;CN="Project Ignite":MAILTO:ignite@uncg.edu
END:VEVENT
BEGIN:VEVENT
DTSTART;TZID=America/New_York:20241204T000000
DTEND;TZID=America/New_York:20241204T235959
DTSTAMP:20260424T045309
CREATED:20240528T153755Z
LAST-MODIFIED:20240617T153515Z
UID:10000029-1733270400-1733356799@soe.uncg.edu
SUMMARY:Fall 2024 | Last Day of Classes
DESCRIPTION:
URL:https://soe.uncg.edu/event/last-day-of-classes/
CATEGORIES:SOE Faculty and Staff
ATTACH;FMTTYPE=image/webp:https://soe.uncg.edu/wp-content/uploads/2024/05/spartan-jump.webp
END:VEVENT
BEGIN:VEVENT
DTSTART;TZID=America/New_York:20241129T000000
DTEND;TZID=America/New_York:20241129T235959
DTSTAMP:20260424T045309
CREATED:20240528T185149Z
LAST-MODIFIED:20240528T190442Z
UID:10000031-1732838400-1732924799@soe.uncg.edu
SUMMARY:Thanksgiving Holiday
DESCRIPTION:Classes dismissed; offices closed.
URL:https://soe.uncg.edu/event/thanksgiving-holiday/2024-11-29/
CATEGORIES:SOE Faculty and Staff
ATTACH;FMTTYPE=image/jpeg:https://soe.uncg.edu/wp-content/uploads/2024/05/PIC30193_Thanksgiving-Cornucopia-1.jpg
END:VEVENT
BEGIN:VEVENT
DTSTART;TZID=America/New_York:20241128T000000
DTEND;TZID=America/New_York:20241128T235959
DTSTAMP:20260424T045309
CREATED:20240528T185149Z
LAST-MODIFIED:20240528T190442Z
UID:10000030-1732752000-1732838399@soe.uncg.edu
SUMMARY:Thanksgiving Holiday
DESCRIPTION:Classes dismissed; offices closed.
URL:https://soe.uncg.edu/event/thanksgiving-holiday/2024-11-28/
CATEGORIES:SOE Faculty and Staff
ATTACH;FMTTYPE=image/jpeg:https://soe.uncg.edu/wp-content/uploads/2024/05/PIC30193_Thanksgiving-Cornucopia-1.jpg
END:VEVENT
BEGIN:VEVENT
DTSTART;TZID=America/New_York:20241122T123000
DTEND;TZID=America/New_York:20241122T133000
DTSTAMP:20260424T045309
CREATED:20241106T160032Z
LAST-MODIFIED:20241106T162854Z
UID:10000134-1732278600-1732282200@soe.uncg.edu
SUMMARY:Elementary Education Classroom Design Showcase
DESCRIPTION:Location: School of Education Building\, Room 106 \n\n\n\nElementary and dual education majors will share their classroom design prototypes. Participants can drop in anytime during the hour to see the different designs and chat with students. \n\n\n\nAll are welcome!
URL:https://soe.uncg.edu/event/elementary-education-classroom-design-showcase/2024-11-22/2/
CATEGORIES:SOE
ATTACH;FMTTYPE=image/jpeg:https://soe.uncg.edu/wp-content/uploads/2024/09/PIC40760-URE_iBelong_Being_A_Good_Human_0077.jpg
ORGANIZER;CN="Department of Teacher Education and Higher Education (TEHE)":MAILTO:tehe@uncg.edu
END:VEVENT
BEGIN:VEVENT
DTSTART;TZID=America/New_York:20241122T093000
DTEND;TZID=America/New_York:20241122T103000
DTSTAMP:20260424T045309
CREATED:20241106T160032Z
LAST-MODIFIED:20241106T162854Z
UID:10000133-1732267800-1732271400@soe.uncg.edu
SUMMARY:Elementary Education Classroom Design Showcase
DESCRIPTION:Location: School of Education Building\, Room 106 \n\n\n\nElementary and dual education majors will share their classroom design prototypes. Participants can drop in anytime during the hour to see the different designs and chat with students. \n\n\n\nAll are welcome!
URL:https://soe.uncg.edu/event/elementary-education-classroom-design-showcase/2024-11-22/1/
CATEGORIES:SOE
ATTACH;FMTTYPE=image/jpeg:https://soe.uncg.edu/wp-content/uploads/2024/09/PIC40760-URE_iBelong_Being_A_Good_Human_0077.jpg
ORGANIZER;CN="Department of Teacher Education and Higher Education (TEHE)":MAILTO:tehe@uncg.edu
END:VEVENT
END:VCALENDAR