BEGIN:VCALENDAR
VERSION:2.0
PRODID:-//School of Education - ECPv6.15.17.1//NONSGML v1.0//EN
CALSCALE:GREGORIAN
METHOD:PUBLISH
X-ORIGINAL-URL:https://soe.uncg.edu
X-WR-CALDESC:Events for School of Education
REFRESH-INTERVAL;VALUE=DURATION:PT1H
X-Robots-Tag:noindex
X-PUBLISHED-TTL:PT1H
BEGIN:VTIMEZONE
TZID:America/New_York
BEGIN:DAYLIGHT
TZOFFSETFROM:-0500
TZOFFSETTO:-0400
TZNAME:EDT
DTSTART:20240310T070000
END:DAYLIGHT
BEGIN:STANDARD
TZOFFSETFROM:-0400
TZOFFSETTO:-0500
TZNAME:EST
DTSTART:20241103T060000
END:STANDARD
BEGIN:DAYLIGHT
TZOFFSETFROM:-0500
TZOFFSETTO:-0400
TZNAME:EDT
DTSTART:20250309T070000
END:DAYLIGHT
BEGIN:STANDARD
TZOFFSETFROM:-0400
TZOFFSETTO:-0500
TZNAME:EST
DTSTART:20251102T060000
END:STANDARD
BEGIN:DAYLIGHT
TZOFFSETFROM:-0500
TZOFFSETTO:-0400
TZNAME:EDT
DTSTART:20260308T070000
END:DAYLIGHT
BEGIN:STANDARD
TZOFFSETFROM:-0400
TZOFFSETTO:-0500
TZNAME:EST
DTSTART:20261101T060000
END:STANDARD
END:VTIMEZONE
BEGIN:VEVENT
DTSTART;TZID=America/New_York:20250513T130000
DTEND;TZID=America/New_York:20250513T140000
DTSTAMP:20260423T141257
CREATED:20250305T170403Z
LAST-MODIFIED:20250305T170406Z
UID:10000169-1747141200-1747144800@soe.uncg.edu
SUMMARY:WEDOIT Accessibility Incubator
DESCRIPTION:Making Your Course More Inclusive!\n\n\n\nThis hands-on event is designed to help you enhance your course materials for better accessibility. Bring your syllabus\, assignments\, or any course content\, and we’ll provide expert guidance and technical support!  \n\n\n\nWhether you’re making small tweaks or big changes\, we’re here to make the process easier. Let’s work together to create more inclusive learning experiences for all students! \n\n\n\n***This will be an in-person event only and will not offer a virtual component. 
URL:https://soe.uncg.edu/event/wedoit-accessibility-incubator-4/
CATEGORIES:Academic Technology Specialist,SOE,SOE Faculty and Staff
ATTACH;FMTTYPE=image/png:https://soe.uncg.edu/wp-content/uploads/2025/03/WEDOIT-Featured-Image.png
END:VEVENT
BEGIN:VEVENT
DTSTART;TZID=America/New_York:20250513T180000
DTEND;TZID=America/New_York:20250513T183000
DTSTAMP:20260423T141257
CREATED:20250423T175628Z
LAST-MODIFIED:20250423T175634Z
UID:10000182-1747159200-1747161000@soe.uncg.edu
SUMMARY:PhD in Teacher Education Information Session
DESCRIPTION:Information session about our PhD in Educational studies with a concentration in Teacher Education.
URL:https://soe.uncg.edu/event/phd-in-teacher-education-information-session/
CATEGORIES:SOE,Teacher Education and Higher Education
ATTACH;FMTTYPE=image/png:https://soe.uncg.edu/wp-content/uploads/2022/02/uncgreensboro_DoTEaHE_v_pms-c.png
ORGANIZER;CN="Department of Teacher Education and Higher Education (TEHE)":MAILTO:tehe@uncg.edu
END:VEVENT
END:VCALENDAR