BEGIN:VCALENDAR
VERSION:2.0
PRODID:-//School of Education - ECPv6.15.17.1//NONSGML v1.0//EN
CALSCALE:GREGORIAN
METHOD:PUBLISH
X-ORIGINAL-URL:https://soe.uncg.edu
X-WR-CALDESC:Events for School of Education
REFRESH-INTERVAL;VALUE=DURATION:PT1H
X-Robots-Tag:noindex
X-PUBLISHED-TTL:PT1H
BEGIN:VTIMEZONE
TZID:America/New_York
BEGIN:DAYLIGHT
TZOFFSETFROM:-0500
TZOFFSETTO:-0400
TZNAME:EDT
DTSTART:20240310T070000
END:DAYLIGHT
BEGIN:STANDARD
TZOFFSETFROM:-0400
TZOFFSETTO:-0500
TZNAME:EST
DTSTART:20241103T060000
END:STANDARD
BEGIN:DAYLIGHT
TZOFFSETFROM:-0500
TZOFFSETTO:-0400
TZNAME:EDT
DTSTART:20250309T070000
END:DAYLIGHT
BEGIN:STANDARD
TZOFFSETFROM:-0400
TZOFFSETTO:-0500
TZNAME:EST
DTSTART:20251102T060000
END:STANDARD
BEGIN:DAYLIGHT
TZOFFSETFROM:-0500
TZOFFSETTO:-0400
TZNAME:EDT
DTSTART:20260308T070000
END:DAYLIGHT
BEGIN:STANDARD
TZOFFSETFROM:-0400
TZOFFSETTO:-0500
TZNAME:EST
DTSTART:20261101T060000
END:STANDARD
END:VTIMEZONE
BEGIN:VEVENT
DTSTART;TZID=America/New_York:20250509T160000
DTEND;TZID=America/New_York:20250509T180000
DTSTAMP:20260420T180214
CREATED:20250403T190053Z
LAST-MODIFIED:20250403T190133Z
UID:10000173-1746806400-1746813600@soe.uncg.edu
SUMMARY:FAEC social
DESCRIPTION:All SOE faculty and staff are invited to our final social for the 2024/2025 year. We will hang out at LeBauer Park in downtown Greensboro. Bring a friend and/or family! \n\n\n\nLeBauer Park 200 N. Elm St. Greensboro\, NC 27401
URL:https://soe.uncg.edu/event/faec-social-2/
CATEGORIES:SOE,SOE Faculty and Staff
ATTACH;FMTTYPE=image/jpeg:https://soe.uncg.edu/wp-content/uploads/2025/03/Events-Calendar-Featured-Images.jpg
END:VEVENT
END:VCALENDAR